BEGIN:VCALENDAR
VERSION:2.0
PRODID:icalendar-ruby
CALSCALE:GREGORIAN
METHOD:PUBLISH
X-WR-CALNAME:2025-26 Thursday Afternoon Stick League (Fall) Calendrier
BEGIN:VTIMEZONE
TZID:America/Halifax
BEGIN:DAYLIGHT
DTSTART:20260308T030000
TZOFFSETFROM:-0400
TZOFFSETTO:-0300
RRULE:FREQ=YEARLY;BYDAY=2SU;BYMONTH=3
TZNAME:ADT
END:DAYLIGHT
BEGIN:STANDARD
DTSTART:20261101T010000
TZOFFSETFROM:-0300
TZOFFSETTO:-0400
RRULE:FREQ=YEARLY;BYDAY=1SU;BYMONTH=11
TZNAME:AST
END:STANDARD
END:VTIMEZONE
BEGIN:VEVENT
DTSTAMP:20260422T183256Z
UID:drawid:175275
DTSTART:20251009T140000
DTEND:20251009T160000
DESCRIPTION:Parties: TBD\, TBD\, TBD\, TBD
LOCATION:619 George St\, Sydney\, B1P 1L1\, NS\, CA
SEQUENCE:1776882776
SUMMARY:2025-26 Thursday Afternoon Stick League (Fall)
URL;VALUE=URI:https://sydney.curling.io/fr/events/23725-2025-26-thursday-af
 ternoon-stick-league-fall/draws
END:VEVENT
BEGIN:VEVENT
DTSTAMP:20260422T183256Z
UID:drawid:175276
DTSTART:20251009T153000
DTEND:20251009T173000
DESCRIPTION:Parties: TBD\, TBD\, TBD\, TBD
LOCATION:619 George St\, Sydney\, B1P 1L1\, NS\, CA
SEQUENCE:1776882776
SUMMARY:2025-26 Thursday Afternoon Stick League (Fall)
URL;VALUE=URI:https://sydney.curling.io/fr/events/23725-2025-26-thursday-af
 ternoon-stick-league-fall/draws
END:VEVENT
BEGIN:VEVENT
DTSTAMP:20260422T183256Z
UID:drawid:175277
DTSTART:20251016T140000
DTEND:20251016T160000
DESCRIPTION:Parties: TBD\, TBD\, TBD\, TBD
LOCATION:619 George St\, Sydney\, B1P 1L1\, NS\, CA
SEQUENCE:1776882776
SUMMARY:2025-26 Thursday Afternoon Stick League (Fall)
URL;VALUE=URI:https://sydney.curling.io/fr/events/23725-2025-26-thursday-af
 ternoon-stick-league-fall/draws
END:VEVENT
BEGIN:VEVENT
DTSTAMP:20260422T183256Z
UID:drawid:175278
DTSTART:20251016T153000
DTEND:20251016T173000
DESCRIPTION:Parties: TBD\, TBD\, TBD\, TBD
LOCATION:619 George St\, Sydney\, B1P 1L1\, NS\, CA
SEQUENCE:1776882776
SUMMARY:2025-26 Thursday Afternoon Stick League (Fall)
URL;VALUE=URI:https://sydney.curling.io/fr/events/23725-2025-26-thursday-af
 ternoon-stick-league-fall/draws
END:VEVENT
BEGIN:VEVENT
DTSTAMP:20260422T183256Z
UID:drawid:175279
DTSTART:20251023T140000
DTEND:20251023T160000
DESCRIPTION:Parties: TBD\, TBD\, TBD\, TBD
LOCATION:619 George St\, Sydney\, B1P 1L1\, NS\, CA
SEQUENCE:1776882776
SUMMARY:2025-26 Thursday Afternoon Stick League (Fall)
URL;VALUE=URI:https://sydney.curling.io/fr/events/23725-2025-26-thursday-af
 ternoon-stick-league-fall/draws
END:VEVENT
BEGIN:VEVENT
DTSTAMP:20260422T183256Z
UID:drawid:175280
DTSTART:20251023T153000
DTEND:20251023T173000
DESCRIPTION:Parties: TBD\, TBD\, TBD\, TBD
LOCATION:619 George St\, Sydney\, B1P 1L1\, NS\, CA
SEQUENCE:1776882776
SUMMARY:2025-26 Thursday Afternoon Stick League (Fall)
URL;VALUE=URI:https://sydney.curling.io/fr/events/23725-2025-26-thursday-af
 ternoon-stick-league-fall/draws
END:VEVENT
BEGIN:VEVENT
DTSTAMP:20260422T183256Z
UID:drawid:175281
DTSTART:20251030T140000
DTEND:20251030T160000
DESCRIPTION:Parties: TBD\, TBD\, TBD\, TBD
LOCATION:619 George St\, Sydney\, B1P 1L1\, NS\, CA
SEQUENCE:1776882776
SUMMARY:2025-26 Thursday Afternoon Stick League (Fall)
URL;VALUE=URI:https://sydney.curling.io/fr/events/23725-2025-26-thursday-af
 ternoon-stick-league-fall/draws
END:VEVENT
BEGIN:VEVENT
DTSTAMP:20260422T183256Z
UID:drawid:175282
DTSTART:20251030T153000
DTEND:20251030T173000
DESCRIPTION:Parties: TBD\, TBD\, TBD\, TBD
LOCATION:619 George St\, Sydney\, B1P 1L1\, NS\, CA
SEQUENCE:1776882776
SUMMARY:2025-26 Thursday Afternoon Stick League (Fall)
URL;VALUE=URI:https://sydney.curling.io/fr/events/23725-2025-26-thursday-af
 ternoon-stick-league-fall/draws
END:VEVENT
BEGIN:VEVENT
DTSTAMP:20260422T183256Z
UID:drawid:175283
DTSTART:20251106T140000
DTEND:20251106T160000
DESCRIPTION:Parties: TBD\, TBD\, TBD\, TBD
LOCATION:619 George St\, Sydney\, B1P 1L1\, NS\, CA
SEQUENCE:1776882776
SUMMARY:2025-26 Thursday Afternoon Stick League (Fall)
URL;VALUE=URI:https://sydney.curling.io/fr/events/23725-2025-26-thursday-af
 ternoon-stick-league-fall/draws
END:VEVENT
BEGIN:VEVENT
DTSTAMP:20260422T183256Z
UID:drawid:175284
DTSTART:20251106T153000
DTEND:20251106T173000
DESCRIPTION:Parties: TBD\, TBD\, TBD\, TBD
LOCATION:619 George St\, Sydney\, B1P 1L1\, NS\, CA
SEQUENCE:1776882776
SUMMARY:2025-26 Thursday Afternoon Stick League (Fall)
URL;VALUE=URI:https://sydney.curling.io/fr/events/23725-2025-26-thursday-af
 ternoon-stick-league-fall/draws
END:VEVENT
BEGIN:VEVENT
DTSTAMP:20260422T183256Z
UID:drawid:175285
DTSTART:20251113T140000
DTEND:20251113T160000
DESCRIPTION:Parties: TBD\, TBD\, TBD\, TBD
LOCATION:619 George St\, Sydney\, B1P 1L1\, NS\, CA
SEQUENCE:1776882776
SUMMARY:2025-26 Thursday Afternoon Stick League (Fall)
URL;VALUE=URI:https://sydney.curling.io/fr/events/23725-2025-26-thursday-af
 ternoon-stick-league-fall/draws
END:VEVENT
BEGIN:VEVENT
DTSTAMP:20260422T183256Z
UID:drawid:175286
DTSTART:20251113T153000
DTEND:20251113T173000
DESCRIPTION:Parties: TBD\, TBD\, TBD\, TBD
LOCATION:619 George St\, Sydney\, B1P 1L1\, NS\, CA
SEQUENCE:1776882776
SUMMARY:2025-26 Thursday Afternoon Stick League (Fall)
URL;VALUE=URI:https://sydney.curling.io/fr/events/23725-2025-26-thursday-af
 ternoon-stick-league-fall/draws
END:VEVENT
BEGIN:VEVENT
DTSTAMP:20260422T183256Z
UID:drawid:175287
DTSTART:20251120T140000
DTEND:20251120T160000
DESCRIPTION:Parties: TBD\, TBD\, TBD\, TBD
LOCATION:619 George St\, Sydney\, B1P 1L1\, NS\, CA
SEQUENCE:1776882776
SUMMARY:2025-26 Thursday Afternoon Stick League (Fall)
URL;VALUE=URI:https://sydney.curling.io/fr/events/23725-2025-26-thursday-af
 ternoon-stick-league-fall/draws
END:VEVENT
BEGIN:VEVENT
DTSTAMP:20260422T183256Z
UID:drawid:175288
DTSTART:20251120T153000
DTEND:20251120T173000
DESCRIPTION:Parties: TBD\, TBD\, TBD\, TBD
LOCATION:619 George St\, Sydney\, B1P 1L1\, NS\, CA
SEQUENCE:1776882776
SUMMARY:2025-26 Thursday Afternoon Stick League (Fall)
URL;VALUE=URI:https://sydney.curling.io/fr/events/23725-2025-26-thursday-af
 ternoon-stick-league-fall/draws
END:VEVENT
BEGIN:VEVENT
DTSTAMP:20260422T183256Z
UID:drawid:175289
DTSTART:20251127T140000
DTEND:20251127T160000
DESCRIPTION:Parties: TBD\, TBD\, TBD\, TBD
LOCATION:619 George St\, Sydney\, B1P 1L1\, NS\, CA
SEQUENCE:1776882776
SUMMARY:2025-26 Thursday Afternoon Stick League (Fall)
URL;VALUE=URI:https://sydney.curling.io/fr/events/23725-2025-26-thursday-af
 ternoon-stick-league-fall/draws
END:VEVENT
BEGIN:VEVENT
DTSTAMP:20260422T183256Z
UID:drawid:175290
DTSTART:20251127T153000
DTEND:20251127T173000
DESCRIPTION:Parties: TBD\, TBD\, TBD\, TBD
LOCATION:619 George St\, Sydney\, B1P 1L1\, NS\, CA
SEQUENCE:1776882776
SUMMARY:2025-26 Thursday Afternoon Stick League (Fall)
URL;VALUE=URI:https://sydney.curling.io/fr/events/23725-2025-26-thursday-af
 ternoon-stick-league-fall/draws
END:VEVENT
BEGIN:VEVENT
DTSTAMP:20260422T183256Z
UID:drawid:175291
DTSTART:20251204T140000
DTEND:20251204T160000
DESCRIPTION:Parties: TBD\, TBD\, TBD\, TBD
LOCATION:619 George St\, Sydney\, B1P 1L1\, NS\, CA
SEQUENCE:1776882776
SUMMARY:2025-26 Thursday Afternoon Stick League (Fall)
URL;VALUE=URI:https://sydney.curling.io/fr/events/23725-2025-26-thursday-af
 ternoon-stick-league-fall/draws
END:VEVENT
BEGIN:VEVENT
DTSTAMP:20260422T183256Z
UID:drawid:175292
DTSTART:20251204T153000
DTEND:20251204T173000
DESCRIPTION:Parties: TBD\, TBD\, TBD\, TBD
LOCATION:619 George St\, Sydney\, B1P 1L1\, NS\, CA
SEQUENCE:1776882776
SUMMARY:2025-26 Thursday Afternoon Stick League (Fall)
URL;VALUE=URI:https://sydney.curling.io/fr/events/23725-2025-26-thursday-af
 ternoon-stick-league-fall/draws
END:VEVENT
BEGIN:VEVENT
DTSTAMP:20260422T183256Z
UID:drawid:175293
DTSTART:20251211T140000
DTEND:20251211T160000
DESCRIPTION:Parties: TBD\, TBD\, TBD\, TBD
LOCATION:619 George St\, Sydney\, B1P 1L1\, NS\, CA
SEQUENCE:1776882776
SUMMARY:2025-26 Thursday Afternoon Stick League (Fall)
URL;VALUE=URI:https://sydney.curling.io/fr/events/23725-2025-26-thursday-af
 ternoon-stick-league-fall/draws
END:VEVENT
BEGIN:VEVENT
DTSTAMP:20260422T183256Z
UID:drawid:175294
DTSTART:20251211T153000
DTEND:20251211T173000
DESCRIPTION:Parties: TBD\, TBD\, TBD\, TBD
LOCATION:619 George St\, Sydney\, B1P 1L1\, NS\, CA
SEQUENCE:1776882776
SUMMARY:2025-26 Thursday Afternoon Stick League (Fall)
URL;VALUE=URI:https://sydney.curling.io/fr/events/23725-2025-26-thursday-af
 ternoon-stick-league-fall/draws
END:VEVENT
BEGIN:VEVENT
DTSTAMP:20260422T183256Z
UID:drawid:175295
DTSTART:20251218T140000
DTEND:20251218T160000
DESCRIPTION:Parties: TBD\, TBD\, TBD\, TBD
LOCATION:619 George St\, Sydney\, B1P 1L1\, NS\, CA
SEQUENCE:1776882776
SUMMARY:2025-26 Thursday Afternoon Stick League (Fall)
URL;VALUE=URI:https://sydney.curling.io/fr/events/23725-2025-26-thursday-af
 ternoon-stick-league-fall/draws
END:VEVENT
BEGIN:VEVENT
DTSTAMP:20260422T183256Z
UID:drawid:175296
DTSTART:20251218T153000
DTEND:20251218T173000
DESCRIPTION:Parties: TBD\, TBD\, TBD\, TBD
LOCATION:619 George St\, Sydney\, B1P 1L1\, NS\, CA
SEQUENCE:1776882776
SUMMARY:2025-26 Thursday Afternoon Stick League (Fall)
URL;VALUE=URI:https://sydney.curling.io/fr/events/23725-2025-26-thursday-af
 ternoon-stick-league-fall/draws
END:VEVENT
END:VCALENDAR
