BEGIN:VCALENDAR
VERSION:2.0
PRODID:icalendar-ruby
CALSCALE:GREGORIAN
METHOD:PUBLISH
X-WR-CALNAME:2025-26 Friday Night Single/Double Entry (Fall) Calendrier
BEGIN:VTIMEZONE
TZID:America/Halifax
BEGIN:DAYLIGHT
DTSTART:20260308T030000
TZOFFSETFROM:-0400
TZOFFSETTO:-0300
RRULE:FREQ=YEARLY;BYDAY=2SU;BYMONTH=3
TZNAME:ADT
END:DAYLIGHT
BEGIN:STANDARD
DTSTART:20261101T010000
TZOFFSETFROM:-0300
TZOFFSETTO:-0400
RRULE:FREQ=YEARLY;BYDAY=1SU;BYMONTH=11
TZNAME:AST
END:STANDARD
END:VTIMEZONE
BEGIN:VEVENT
DTSTAMP:20260422T183258Z
UID:drawid:184780
DTSTART:20251010T180000
DTEND:20251010T200000
DESCRIPTION:Parties: TBD\, TBD\, TBD\, TBD
LOCATION:619 George St\, Sydney\, B1P 1L1\, NS\, CA
SEQUENCE:1776882778
SUMMARY:2025-26 Friday Night Single/Double Entry (Fall)
URL;VALUE=URI:https://sydney.curling.io/fr/events/23724-2025-26-friday-nigh
 t-single-double-entry-fall/draws
END:VEVENT
BEGIN:VEVENT
DTSTAMP:20260422T183258Z
UID:drawid:184781
DTSTART:20251017T180000
DTEND:20251017T200000
DESCRIPTION:Parties: TBD\, TBD\, TBD\, TBD
LOCATION:619 George St\, Sydney\, B1P 1L1\, NS\, CA
SEQUENCE:1776882778
SUMMARY:2025-26 Friday Night Single/Double Entry (Fall)
URL;VALUE=URI:https://sydney.curling.io/fr/events/23724-2025-26-friday-nigh
 t-single-double-entry-fall/draws
END:VEVENT
BEGIN:VEVENT
DTSTAMP:20260422T183258Z
UID:drawid:184782
DTSTART:20251024T180000
DTEND:20251024T200000
DESCRIPTION:Parties: TBD\, TBD\, TBD\, TBD
LOCATION:619 George St\, Sydney\, B1P 1L1\, NS\, CA
SEQUENCE:1776882778
SUMMARY:2025-26 Friday Night Single/Double Entry (Fall)
URL;VALUE=URI:https://sydney.curling.io/fr/events/23724-2025-26-friday-nigh
 t-single-double-entry-fall/draws
END:VEVENT
BEGIN:VEVENT
DTSTAMP:20260422T183258Z
UID:drawid:184783
DTSTART:20251107T180000
DTEND:20251107T200000
DESCRIPTION:Parties: TBD\, TBD\, TBD\, TBD
LOCATION:619 George St\, Sydney\, B1P 1L1\, NS\, CA
SEQUENCE:1776882778
SUMMARY:2025-26 Friday Night Single/Double Entry (Fall)
URL;VALUE=URI:https://sydney.curling.io/fr/events/23724-2025-26-friday-nigh
 t-single-double-entry-fall/draws
END:VEVENT
BEGIN:VEVENT
DTSTAMP:20260422T183258Z
UID:drawid:184786
DTSTART:20251114T180000
DTEND:20251114T200000
DESCRIPTION:Parties: TBD\, TBD\, TBD\, TBD
LOCATION:619 George St\, Sydney\, B1P 1L1\, NS\, CA
SEQUENCE:1776882778
SUMMARY:2025-26 Friday Night Single/Double Entry (Fall)
URL;VALUE=URI:https://sydney.curling.io/fr/events/23724-2025-26-friday-nigh
 t-single-double-entry-fall/draws
END:VEVENT
BEGIN:VEVENT
DTSTAMP:20260422T183258Z
UID:drawid:184784
DTSTART:20251121T180000
DTEND:20251121T200000
DESCRIPTION:Parties: TBD\, TBD\, TBD\, TBD
LOCATION:619 George St\, Sydney\, B1P 1L1\, NS\, CA
SEQUENCE:1776882778
SUMMARY:2025-26 Friday Night Single/Double Entry (Fall)
URL;VALUE=URI:https://sydney.curling.io/fr/events/23724-2025-26-friday-nigh
 t-single-double-entry-fall/draws
END:VEVENT
BEGIN:VEVENT
DTSTAMP:20260422T183258Z
UID:drawid:184785
DTSTART:20251128T180000
DTEND:20251128T200000
DESCRIPTION:Parties: TBD\, TBD\, TBD\, TBD
LOCATION:619 George St\, Sydney\, B1P 1L1\, NS\, CA
SEQUENCE:1776882778
SUMMARY:2025-26 Friday Night Single/Double Entry (Fall)
URL;VALUE=URI:https://sydney.curling.io/fr/events/23724-2025-26-friday-nigh
 t-single-double-entry-fall/draws
END:VEVENT
BEGIN:VEVENT
DTSTAMP:20260422T183258Z
UID:drawid:184787
DTSTART:20251212T180000
DTEND:20251212T200000
DESCRIPTION:Parties: 5 v 6\, 1 v 2\, 3 v 4\, 7 v 8
LOCATION:619 George St\, Sydney\, B1P 1L1\, NS\, CA
SEQUENCE:1776882778
SUMMARY:2025-26 Friday Night Single/Double Entry (Fall)
URL;VALUE=URI:https://sydney.curling.io/fr/events/23724-2025-26-friday-nigh
 t-single-double-entry-fall/draws
END:VEVENT
END:VCALENDAR
