BEGIN:VCALENDAR
VERSION:2.0
PRODID:icalendar-ruby
CALSCALE:GREGORIAN
METHOD:PUBLISH
X-WR-CALNAME:2025-26 MacIntyre Chevrolet Wednesday Night Open League (Fall)
  Calendrier
BEGIN:VTIMEZONE
TZID:America/Halifax
BEGIN:DAYLIGHT
DTSTART:20260308T030000
TZOFFSETFROM:-0400
TZOFFSETTO:-0300
RRULE:FREQ=YEARLY;BYDAY=2SU;BYMONTH=3
TZNAME:ADT
END:DAYLIGHT
BEGIN:STANDARD
DTSTART:20261101T010000
TZOFFSETFROM:-0300
TZOFFSETTO:-0400
RRULE:FREQ=YEARLY;BYDAY=1SU;BYMONTH=11
TZNAME:AST
END:STANDARD
END:VTIMEZONE
BEGIN:VEVENT
DTSTAMP:20260422T183257Z
UID:drawid:176791
DTSTART:20251008T194500
DTEND:20251008T214500
DESCRIPTION:Parties: TBD\, TBD\, TBD\, TBD
LOCATION:619 George St\, Sydney\, B1P 1L1\, NS\, CA
SEQUENCE:1776882777
SUMMARY:2025-26 MacIntyre Chevrolet Wednesday Night Open League (Fall)
URL;VALUE=URI:https://sydney.curling.io/fr/events/23698-2025-26-macintyre-c
 hevrolet-wednesday-night-open-league-fall/draws
END:VEVENT
BEGIN:VEVENT
DTSTAMP:20260422T183257Z
UID:drawid:176792
DTSTART:20251015T194500
DTEND:20251015T214500
DESCRIPTION:Parties: TBD\, TBD\, TBD\, TBD
LOCATION:619 George St\, Sydney\, B1P 1L1\, NS\, CA
SEQUENCE:1776882777
SUMMARY:2025-26 MacIntyre Chevrolet Wednesday Night Open League (Fall)
URL;VALUE=URI:https://sydney.curling.io/fr/events/23698-2025-26-macintyre-c
 hevrolet-wednesday-night-open-league-fall/draws
END:VEVENT
BEGIN:VEVENT
DTSTAMP:20260422T183257Z
UID:drawid:176793
DTSTART:20251022T194500
DTEND:20251022T214500
DESCRIPTION:Parties: TBD\, TBD\, TBD\, TBD
LOCATION:619 George St\, Sydney\, B1P 1L1\, NS\, CA
SEQUENCE:1776882777
SUMMARY:2025-26 MacIntyre Chevrolet Wednesday Night Open League (Fall)
URL;VALUE=URI:https://sydney.curling.io/fr/events/23698-2025-26-macintyre-c
 hevrolet-wednesday-night-open-league-fall/draws
END:VEVENT
BEGIN:VEVENT
DTSTAMP:20260422T183257Z
UID:drawid:176794
DTSTART:20251029T194500
DTEND:20251029T214500
DESCRIPTION:Parties: TBD\, TBD\, TBD\, TBD
LOCATION:619 George St\, Sydney\, B1P 1L1\, NS\, CA
SEQUENCE:1776882777
SUMMARY:2025-26 MacIntyre Chevrolet Wednesday Night Open League (Fall)
URL;VALUE=URI:https://sydney.curling.io/fr/events/23698-2025-26-macintyre-c
 hevrolet-wednesday-night-open-league-fall/draws
END:VEVENT
BEGIN:VEVENT
DTSTAMP:20260422T183257Z
UID:drawid:176795
DTSTART:20251105T194500
DTEND:20251105T214500
DESCRIPTION:Parties: TBD\, TBD\, TBD\, TBD
LOCATION:619 George St\, Sydney\, B1P 1L1\, NS\, CA
SEQUENCE:1776882777
SUMMARY:2025-26 MacIntyre Chevrolet Wednesday Night Open League (Fall)
URL;VALUE=URI:https://sydney.curling.io/fr/events/23698-2025-26-macintyre-c
 hevrolet-wednesday-night-open-league-fall/draws
END:VEVENT
BEGIN:VEVENT
DTSTAMP:20260422T183257Z
UID:drawid:176796
DTSTART:20251112T194500
DTEND:20251112T214500
DESCRIPTION:Parties: TBD\, TBD\, TBD\, TBD
LOCATION:619 George St\, Sydney\, B1P 1L1\, NS\, CA
SEQUENCE:1776882777
SUMMARY:2025-26 MacIntyre Chevrolet Wednesday Night Open League (Fall)
URL;VALUE=URI:https://sydney.curling.io/fr/events/23698-2025-26-macintyre-c
 hevrolet-wednesday-night-open-league-fall/draws
END:VEVENT
BEGIN:VEVENT
DTSTAMP:20260422T183257Z
UID:drawid:176797
DTSTART:20251119T194500
DTEND:20251119T214500
DESCRIPTION:Parties: TBD\, TBD\, TBD\, TBD
LOCATION:619 George St\, Sydney\, B1P 1L1\, NS\, CA
SEQUENCE:1776882777
SUMMARY:2025-26 MacIntyre Chevrolet Wednesday Night Open League (Fall)
URL;VALUE=URI:https://sydney.curling.io/fr/events/23698-2025-26-macintyre-c
 hevrolet-wednesday-night-open-league-fall/draws
END:VEVENT
BEGIN:VEVENT
DTSTAMP:20260422T183257Z
UID:drawid:176798
DTSTART:20251126T194500
DTEND:20251126T214500
DESCRIPTION:Parties: TBD\, TBD\, TBD\, TBD
LOCATION:619 George St\, Sydney\, B1P 1L1\, NS\, CA
SEQUENCE:1776882777
SUMMARY:2025-26 MacIntyre Chevrolet Wednesday Night Open League (Fall)
URL;VALUE=URI:https://sydney.curling.io/fr/events/23698-2025-26-macintyre-c
 hevrolet-wednesday-night-open-league-fall/draws
END:VEVENT
BEGIN:VEVENT
DTSTAMP:20260422T183257Z
UID:drawid:176799
DTSTART:20251203T194500
DTEND:20251203T214500
DESCRIPTION:Parties: TBD\, TBD\, TBD\, TBD
LOCATION:619 George St\, Sydney\, B1P 1L1\, NS\, CA
SEQUENCE:1776882777
SUMMARY:2025-26 MacIntyre Chevrolet Wednesday Night Open League (Fall)
URL;VALUE=URI:https://sydney.curling.io/fr/events/23698-2025-26-macintyre-c
 hevrolet-wednesday-night-open-league-fall/draws
END:VEVENT
BEGIN:VEVENT
DTSTAMP:20260422T183257Z
UID:drawid:176800
DTSTART:20251210T194500
DTEND:20251210T214500
DESCRIPTION:Parties: TBD\, TBD\, TBD\, TBD
LOCATION:619 George St\, Sydney\, B1P 1L1\, NS\, CA
SEQUENCE:1776882777
SUMMARY:2025-26 MacIntyre Chevrolet Wednesday Night Open League (Fall)
URL;VALUE=URI:https://sydney.curling.io/fr/events/23698-2025-26-macintyre-c
 hevrolet-wednesday-night-open-league-fall/draws
END:VEVENT
BEGIN:VEVENT
DTSTAMP:20260422T183257Z
UID:drawid:177226
DTSTART:20251217T194500
DTEND:20251217T214500
DESCRIPTION:Parties: 7v8\, Gold Medal Game\, Bronze Medal Game\, 5v6
LOCATION:619 George St\, Sydney\, B1P 1L1\, NS\, CA
SEQUENCE:1776882777
SUMMARY:2025-26 MacIntyre Chevrolet Wednesday Night Open League (Fall)
URL;VALUE=URI:https://sydney.curling.io/fr/events/23698-2025-26-macintyre-c
 hevrolet-wednesday-night-open-league-fall/draws
END:VEVENT
END:VCALENDAR
