BEGIN:VCALENDAR
VERSION:2.0
PRODID:icalendar-ruby
CALSCALE:GREGORIAN
METHOD:PUBLISH
X-WR-CALNAME:2025-26 Ziggy's Wednesday Night Ladies League (Fall) Calendrie
 r
BEGIN:VTIMEZONE
TZID:America/Halifax
BEGIN:DAYLIGHT
DTSTART:20260308T030000
TZOFFSETFROM:-0400
TZOFFSETTO:-0300
RRULE:FREQ=YEARLY;BYDAY=2SU;BYMONTH=3
TZNAME:ADT
END:DAYLIGHT
BEGIN:STANDARD
DTSTART:20261101T010000
TZOFFSETFROM:-0300
TZOFFSETTO:-0400
RRULE:FREQ=YEARLY;BYDAY=1SU;BYMONTH=11
TZNAME:AST
END:STANDARD
END:VTIMEZONE
BEGIN:VEVENT
DTSTAMP:20260422T183257Z
UID:drawid:180802
DTSTART:20251008T180000
DTEND:20251008T200000
DESCRIPTION:Parties: TBD\, TBD\, TBD\, TBD
LOCATION:619 George St\, Sydney\, B1P 1L1\, NS\, CA
SEQUENCE:1776882777
SUMMARY:2025-26 Ziggy's Wednesday Night Ladies League (Fall)
URL;VALUE=URI:https://sydney.curling.io/fr/events/23697-2025-26-ziggy-s-wed
 nesday-night-ladies-league-fall/draws
END:VEVENT
BEGIN:VEVENT
DTSTAMP:20260422T183257Z
UID:drawid:180803
DTSTART:20251015T180000
DTEND:20251015T200000
DESCRIPTION:Parties: TBD\, TBD\, TBD\, TBD
LOCATION:619 George St\, Sydney\, B1P 1L1\, NS\, CA
SEQUENCE:1776882777
SUMMARY:2025-26 Ziggy's Wednesday Night Ladies League (Fall)
URL;VALUE=URI:https://sydney.curling.io/fr/events/23697-2025-26-ziggy-s-wed
 nesday-night-ladies-league-fall/draws
END:VEVENT
BEGIN:VEVENT
DTSTAMP:20260422T183257Z
UID:drawid:180804
DTSTART:20251022T180000
DTEND:20251022T200000
DESCRIPTION:Parties: TBD\, TBD\, TBD\, TBD
LOCATION:619 George St\, Sydney\, B1P 1L1\, NS\, CA
SEQUENCE:1776882777
SUMMARY:2025-26 Ziggy's Wednesday Night Ladies League (Fall)
URL;VALUE=URI:https://sydney.curling.io/fr/events/23697-2025-26-ziggy-s-wed
 nesday-night-ladies-league-fall/draws
END:VEVENT
BEGIN:VEVENT
DTSTAMP:20260422T183257Z
UID:drawid:180806
DTSTART:20251105T180000
DTEND:20251105T200000
DESCRIPTION:Parties: TBD\, TBD\, TBD\, TBD
LOCATION:619 George St\, Sydney\, B1P 1L1\, NS\, CA
SEQUENCE:1776882777
SUMMARY:2025-26 Ziggy's Wednesday Night Ladies League (Fall)
URL;VALUE=URI:https://sydney.curling.io/fr/events/23697-2025-26-ziggy-s-wed
 nesday-night-ladies-league-fall/draws
END:VEVENT
BEGIN:VEVENT
DTSTAMP:20260422T183257Z
UID:drawid:180807
DTSTART:20251112T180000
DTEND:20251112T200000
DESCRIPTION:Parties: TBD\, TBD\, TBD\, TBD
LOCATION:619 George St\, Sydney\, B1P 1L1\, NS\, CA
SEQUENCE:1776882777
SUMMARY:2025-26 Ziggy's Wednesday Night Ladies League (Fall)
URL;VALUE=URI:https://sydney.curling.io/fr/events/23697-2025-26-ziggy-s-wed
 nesday-night-ladies-league-fall/draws
END:VEVENT
BEGIN:VEVENT
DTSTAMP:20260422T183257Z
UID:drawid:180808
DTSTART:20251119T180000
DTEND:20251119T200000
DESCRIPTION:Parties: TBD\, TBD\, TBD\, TBD
LOCATION:619 George St\, Sydney\, B1P 1L1\, NS\, CA
SEQUENCE:1776882777
SUMMARY:2025-26 Ziggy's Wednesday Night Ladies League (Fall)
URL;VALUE=URI:https://sydney.curling.io/fr/events/23697-2025-26-ziggy-s-wed
 nesday-night-ladies-league-fall/draws
END:VEVENT
BEGIN:VEVENT
DTSTAMP:20260422T183257Z
UID:drawid:180809
DTSTART:20251126T180000
DTEND:20251126T200000
DESCRIPTION:Parties: TBD\, TBD\, TBD\, TBD
LOCATION:619 George St\, Sydney\, B1P 1L1\, NS\, CA
SEQUENCE:1776882777
SUMMARY:2025-26 Ziggy's Wednesday Night Ladies League (Fall)
URL;VALUE=URI:https://sydney.curling.io/fr/events/23697-2025-26-ziggy-s-wed
 nesday-night-ladies-league-fall/draws
END:VEVENT
BEGIN:VEVENT
DTSTAMP:20260422T183257Z
UID:drawid:180810
DTSTART:20251203T180000
DTEND:20251203T200000
DESCRIPTION:Parties: TBD\, TBD\, TBD\, TBD
LOCATION:619 George St\, Sydney\, B1P 1L1\, NS\, CA
SEQUENCE:1776882777
SUMMARY:2025-26 Ziggy's Wednesday Night Ladies League (Fall)
URL;VALUE=URI:https://sydney.curling.io/fr/events/23697-2025-26-ziggy-s-wed
 nesday-night-ladies-league-fall/draws
END:VEVENT
BEGIN:VEVENT
DTSTAMP:20260422T183257Z
UID:drawid:180811
DTSTART:20251210T180000
DTEND:20251210T200000
DESCRIPTION:Parties: TBD\, TBD\, TBD\, TBD
LOCATION:619 George St\, Sydney\, B1P 1L1\, NS\, CA
SEQUENCE:1776882777
SUMMARY:2025-26 Ziggy's Wednesday Night Ladies League (Fall)
URL;VALUE=URI:https://sydney.curling.io/fr/events/23697-2025-26-ziggy-s-wed
 nesday-night-ladies-league-fall/draws
END:VEVENT
BEGIN:VEVENT
DTSTAMP:20260422T183257Z
UID:drawid:191063
DTSTART:20251217T180000
DTEND:20251217T200000
DESCRIPTION:Parties: TBD\, TBD\, TBD\, TBD
LOCATION:619 George St\, Sydney\, B1P 1L1\, NS\, CA
SEQUENCE:1776882777
SUMMARY:2025-26 Ziggy's Wednesday Night Ladies League (Fall)
URL;VALUE=URI:https://sydney.curling.io/fr/events/23697-2025-26-ziggy-s-wed
 nesday-night-ladies-league-fall/draws
END:VEVENT
END:VCALENDAR
