BEGIN:VCALENDAR
VERSION:2.0
PRODID:icalendar-ruby
CALSCALE:GREGORIAN
METHOD:PUBLISH
X-WR-CALNAME:2025-26 The Curling Store Tuesday Night Competitive Team Entry
  (Fall) Calendrier
BEGIN:VTIMEZONE
TZID:America/Halifax
BEGIN:DAYLIGHT
DTSTART:20260308T030000
TZOFFSETFROM:-0400
TZOFFSETTO:-0300
RRULE:FREQ=YEARLY;BYDAY=2SU;BYMONTH=3
TZNAME:ADT
END:DAYLIGHT
BEGIN:STANDARD
DTSTART:20261101T010000
TZOFFSETFROM:-0300
TZOFFSETTO:-0400
RRULE:FREQ=YEARLY;BYDAY=1SU;BYMONTH=11
TZNAME:AST
END:STANDARD
END:VTIMEZONE
BEGIN:VEVENT
DTSTAMP:20260422T183304Z
UID:drawid:182150
DTSTART:20251007T194500
DTEND:20251007T214500
DESCRIPTION:Parties: TBD\, TBD\, TBD\, TBD
LOCATION:619 George St\, Sydney\, B1P 1L1\, NS\, CA
SEQUENCE:1776882784
SUMMARY:2025-26 The Curling Store Tuesday Night Competitive Team Entry (Fal
 l)
URL;VALUE=URI:https://sydney.curling.io/fr/events/23696-2025-26-the-curling
 -store-tuesday-night-competitive-team-entry-fall/draws
END:VEVENT
BEGIN:VEVENT
DTSTAMP:20260422T183304Z
UID:drawid:182145
DTSTART:20251014T180000
DTEND:20251014T200000
DESCRIPTION:Parties: TBD\, TBD\, TBD\, TBD
LOCATION:619 George St\, Sydney\, B1P 1L1\, NS\, CA
SEQUENCE:1776882784
SUMMARY:2025-26 The Curling Store Tuesday Night Competitive Team Entry (Fal
 l)
URL;VALUE=URI:https://sydney.curling.io/fr/events/23696-2025-26-the-curling
 -store-tuesday-night-competitive-team-entry-fall/draws
END:VEVENT
BEGIN:VEVENT
DTSTAMP:20260422T183304Z
UID:drawid:182149
DTSTART:20251021T194500
DTEND:20251021T214500
DESCRIPTION:Parties: TBD\, TBD\, TBD\, TBD
LOCATION:619 George St\, Sydney\, B1P 1L1\, NS\, CA
SEQUENCE:1776882784
SUMMARY:2025-26 The Curling Store Tuesday Night Competitive Team Entry (Fal
 l)
URL;VALUE=URI:https://sydney.curling.io/fr/events/23696-2025-26-the-curling
 -store-tuesday-night-competitive-team-entry-fall/draws
END:VEVENT
BEGIN:VEVENT
DTSTAMP:20260422T183304Z
UID:drawid:182148
DTSTART:20251028T180000
DTEND:20251028T200000
DESCRIPTION:Parties: TBD\, TBD\, TBD\, TBD
LOCATION:619 George St\, Sydney\, B1P 1L1\, NS\, CA
SEQUENCE:1776882784
SUMMARY:2025-26 The Curling Store Tuesday Night Competitive Team Entry (Fal
 l)
URL;VALUE=URI:https://sydney.curling.io/fr/events/23696-2025-26-the-curling
 -store-tuesday-night-competitive-team-entry-fall/draws
END:VEVENT
BEGIN:VEVENT
DTSTAMP:20260422T183304Z
UID:drawid:182146
DTSTART:20251104T194500
DTEND:20251104T214500
DESCRIPTION:Parties: TBD\, TBD\, TBD\, TBD
LOCATION:619 George St\, Sydney\, B1P 1L1\, NS\, CA
SEQUENCE:1776882784
SUMMARY:2025-26 The Curling Store Tuesday Night Competitive Team Entry (Fal
 l)
URL;VALUE=URI:https://sydney.curling.io/fr/events/23696-2025-26-the-curling
 -store-tuesday-night-competitive-team-entry-fall/draws
END:VEVENT
BEGIN:VEVENT
DTSTAMP:20260422T183304Z
UID:drawid:182144
DTSTART:20251111T180000
DTEND:20251111T200000
DESCRIPTION:Parties: TBD\, TBD\, TBD\, TBD
LOCATION:619 George St\, Sydney\, B1P 1L1\, NS\, CA
SEQUENCE:1776882784
SUMMARY:2025-26 The Curling Store Tuesday Night Competitive Team Entry (Fal
 l)
URL;VALUE=URI:https://sydney.curling.io/fr/events/23696-2025-26-the-curling
 -store-tuesday-night-competitive-team-entry-fall/draws
END:VEVENT
BEGIN:VEVENT
DTSTAMP:20260422T183304Z
UID:drawid:182151
DTSTART:20251118T194500
DTEND:20251118T214500
DESCRIPTION:Parties: TBD\, TBD\, TBD\, TBD
LOCATION:619 George St\, Sydney\, B1P 1L1\, NS\, CA
SEQUENCE:1776882784
SUMMARY:2025-26 The Curling Store Tuesday Night Competitive Team Entry (Fal
 l)
URL;VALUE=URI:https://sydney.curling.io/fr/events/23696-2025-26-the-curling
 -store-tuesday-night-competitive-team-entry-fall/draws
END:VEVENT
BEGIN:VEVENT
DTSTAMP:20260422T183304Z
UID:drawid:182147
DTSTART:20251125T180000
DTEND:20251125T200000
DESCRIPTION:Parties: TBD\, TBD\, TBD\, TBD
LOCATION:619 George St\, Sydney\, B1P 1L1\, NS\, CA
SEQUENCE:1776882784
SUMMARY:2025-26 The Curling Store Tuesday Night Competitive Team Entry (Fal
 l)
URL;VALUE=URI:https://sydney.curling.io/fr/events/23696-2025-26-the-curling
 -store-tuesday-night-competitive-team-entry-fall/draws
END:VEVENT
BEGIN:VEVENT
DTSTAMP:20260422T183304Z
UID:drawid:182152
DTSTART:20251202T194500
DTEND:20251202T214500
DESCRIPTION:Parties: TBD\, TBD\, TBD\, TBD
LOCATION:619 George St\, Sydney\, B1P 1L1\, NS\, CA
SEQUENCE:1776882784
SUMMARY:2025-26 The Curling Store Tuesday Night Competitive Team Entry (Fal
 l)
URL;VALUE=URI:https://sydney.curling.io/fr/events/23696-2025-26-the-curling
 -store-tuesday-night-competitive-team-entry-fall/draws
END:VEVENT
BEGIN:VEVENT
DTSTAMP:20260422T183304Z
UID:drawid:182153
DTSTART:20251209T180000
DTEND:20251209T200000
DESCRIPTION:Parties: 8 v 9 \, 4 v 5\, 2 v 3\, 6 v 7
LOCATION:619 George St\, Sydney\, B1P 1L1\, NS\, CA
SEQUENCE:1776882784
SUMMARY:2025-26 The Curling Store Tuesday Night Competitive Team Entry (Fal
 l)
URL;VALUE=URI:https://sydney.curling.io/fr/events/23696-2025-26-the-curling
 -store-tuesday-night-competitive-team-entry-fall/draws
END:VEVENT
BEGIN:VEVENT
DTSTAMP:20260422T183304Z
UID:drawid:182154
DTSTART:20251216T194500
DTEND:20251216T214500
DESCRIPTION:Parties: 5th Place\, Championship\, 3rd Place\, 7th Place
LOCATION:619 George St\, Sydney\, B1P 1L1\, NS\, CA
SEQUENCE:1776882784
SUMMARY:2025-26 The Curling Store Tuesday Night Competitive Team Entry (Fal
 l)
URL;VALUE=URI:https://sydney.curling.io/fr/events/23696-2025-26-the-curling
 -store-tuesday-night-competitive-team-entry-fall/draws
END:VEVENT
END:VCALENDAR
