BEGIN:VCALENDAR
VERSION:2.0
PRODID:icalendar-ruby
CALSCALE:GREGORIAN
METHOD:PUBLISH
X-WR-CALNAME:2025-26 Café by the Bay Tuesday Night Social Team Entry (Fall
 ) Calendrier
BEGIN:VTIMEZONE
TZID:America/Halifax
BEGIN:DAYLIGHT
DTSTART:20260308T030000
TZOFFSETFROM:-0400
TZOFFSETTO:-0300
RRULE:FREQ=YEARLY;BYDAY=2SU;BYMONTH=3
TZNAME:ADT
END:DAYLIGHT
BEGIN:STANDARD
DTSTART:20261101T010000
TZOFFSETFROM:-0300
TZOFFSETTO:-0400
RRULE:FREQ=YEARLY;BYDAY=1SU;BYMONTH=11
TZNAME:AST
END:STANDARD
END:VTIMEZONE
BEGIN:VEVENT
DTSTAMP:20260422T183305Z
UID:drawid:176760
DTSTART:20251007T180000
DTEND:20251007T200000
DESCRIPTION:Parties: TBD\, TBD\, TBD\, TBD
LOCATION:619 George St\, Sydney\, B1P 1L1\, NS\, CA
SEQUENCE:1776882785
SUMMARY:2025-26 Café by the Bay Tuesday Night Social Team Entry (Fall)
URL;VALUE=URI:https://sydney.curling.io/fr/events/23695-2025-26-cafe-by-the
 -bay-tuesday-night-social-team-entry-fall/draws
END:VEVENT
BEGIN:VEVENT
DTSTAMP:20260422T183305Z
UID:drawid:176759
DTSTART:20251014T201500
DTEND:20251014T221500
DESCRIPTION:Parties: TBD\, TBD\, TBD\, TBD
LOCATION:619 George St\, Sydney\, B1P 1L1\, NS\, CA
SEQUENCE:1776882785
SUMMARY:2025-26 Café by the Bay Tuesday Night Social Team Entry (Fall)
URL;VALUE=URI:https://sydney.curling.io/fr/events/23695-2025-26-cafe-by-the
 -bay-tuesday-night-social-team-entry-fall/draws
END:VEVENT
BEGIN:VEVENT
DTSTAMP:20260422T183305Z
UID:drawid:176761
DTSTART:20251021T180000
DTEND:20251021T200000
DESCRIPTION:Parties: TBD\, TBD\, TBD\, TBD
LOCATION:619 George St\, Sydney\, B1P 1L1\, NS\, CA
SEQUENCE:1776882785
SUMMARY:2025-26 Café by the Bay Tuesday Night Social Team Entry (Fall)
URL;VALUE=URI:https://sydney.curling.io/fr/events/23695-2025-26-cafe-by-the
 -bay-tuesday-night-social-team-entry-fall/draws
END:VEVENT
BEGIN:VEVENT
DTSTAMP:20260422T183305Z
UID:drawid:176762
DTSTART:20251028T201500
DTEND:20251028T221500
DESCRIPTION:Parties: TBD\, TBD\, TBD\, TBD
LOCATION:619 George St\, Sydney\, B1P 1L1\, NS\, CA
SEQUENCE:1776882785
SUMMARY:2025-26 Café by the Bay Tuesday Night Social Team Entry (Fall)
URL;VALUE=URI:https://sydney.curling.io/fr/events/23695-2025-26-cafe-by-the
 -bay-tuesday-night-social-team-entry-fall/draws
END:VEVENT
BEGIN:VEVENT
DTSTAMP:20260422T183305Z
UID:drawid:176763
DTSTART:20251104T180000
DTEND:20251104T200000
DESCRIPTION:Parties: TBD\, TBD\, TBD\, TBD
LOCATION:619 George St\, Sydney\, B1P 1L1\, NS\, CA
SEQUENCE:1776882785
SUMMARY:2025-26 Café by the Bay Tuesday Night Social Team Entry (Fall)
URL;VALUE=URI:https://sydney.curling.io/fr/events/23695-2025-26-cafe-by-the
 -bay-tuesday-night-social-team-entry-fall/draws
END:VEVENT
BEGIN:VEVENT
DTSTAMP:20260422T183305Z
UID:drawid:176764
DTSTART:20251111T201500
DTEND:20251111T221500
DESCRIPTION:Parties: TBD\, TBD\, TBD\, TBD
LOCATION:619 George St\, Sydney\, B1P 1L1\, NS\, CA
SEQUENCE:1776882785
SUMMARY:2025-26 Café by the Bay Tuesday Night Social Team Entry (Fall)
URL;VALUE=URI:https://sydney.curling.io/fr/events/23695-2025-26-cafe-by-the
 -bay-tuesday-night-social-team-entry-fall/draws
END:VEVENT
BEGIN:VEVENT
DTSTAMP:20260422T183305Z
UID:drawid:176765
DTSTART:20251118T180000
DTEND:20251118T200000
DESCRIPTION:Parties: TBD\, TBD\, TBD\, TBD
LOCATION:619 George St\, Sydney\, B1P 1L1\, NS\, CA
SEQUENCE:1776882785
SUMMARY:2025-26 Café by the Bay Tuesday Night Social Team Entry (Fall)
URL;VALUE=URI:https://sydney.curling.io/fr/events/23695-2025-26-cafe-by-the
 -bay-tuesday-night-social-team-entry-fall/draws
END:VEVENT
BEGIN:VEVENT
DTSTAMP:20260422T183305Z
UID:drawid:176766
DTSTART:20251125T201500
DTEND:20251125T221500
DESCRIPTION:Parties: TBD\, TBD\, TBD\, TBD
LOCATION:619 George St\, Sydney\, B1P 1L1\, NS\, CA
SEQUENCE:1776882785
SUMMARY:2025-26 Café by the Bay Tuesday Night Social Team Entry (Fall)
URL;VALUE=URI:https://sydney.curling.io/fr/events/23695-2025-26-cafe-by-the
 -bay-tuesday-night-social-team-entry-fall/draws
END:VEVENT
BEGIN:VEVENT
DTSTAMP:20260422T183305Z
UID:drawid:176767
DTSTART:20251202T180000
DTEND:20251202T200000
DESCRIPTION:Parties: TBD\, TBD\, TBD\, TBD
LOCATION:619 George St\, Sydney\, B1P 1L1\, NS\, CA
SEQUENCE:1776882785
SUMMARY:2025-26 Café by the Bay Tuesday Night Social Team Entry (Fall)
URL;VALUE=URI:https://sydney.curling.io/fr/events/23695-2025-26-cafe-by-the
 -bay-tuesday-night-social-team-entry-fall/draws
END:VEVENT
BEGIN:VEVENT
DTSTAMP:20260422T183305Z
UID:drawid:176768
DTSTART:20251209T201500
DTEND:20251209T221500
DESCRIPTION:Parties: TBD\, TBD\, TBD\, TBD
LOCATION:619 George St\, Sydney\, B1P 1L1\, NS\, CA
SEQUENCE:1776882785
SUMMARY:2025-26 Café by the Bay Tuesday Night Social Team Entry (Fall)
URL;VALUE=URI:https://sydney.curling.io/fr/events/23695-2025-26-cafe-by-the
 -bay-tuesday-night-social-team-entry-fall/draws
END:VEVENT
BEGIN:VEVENT
DTSTAMP:20260422T183305Z
UID:drawid:176769
DTSTART:20251216T180000
DTEND:20251216T200000
DESCRIPTION:Parties: TBD\, TBD\, TBD\, TBD
LOCATION:619 George St\, Sydney\, B1P 1L1\, NS\, CA
SEQUENCE:1776882785
SUMMARY:2025-26 Café by the Bay Tuesday Night Social Team Entry (Fall)
URL;VALUE=URI:https://sydney.curling.io/fr/events/23695-2025-26-cafe-by-the
 -bay-tuesday-night-social-team-entry-fall/draws
END:VEVENT
END:VCALENDAR
