BEGIN:VCALENDAR
VERSION:2.0
PRODID:icalendar-ruby
CALSCALE:GREGORIAN
METHOD:PUBLISH
X-WR-CALNAME:2025-26 Colbourne Auto Monday Night Single/Double Entry (Fall)
  Calendrier
BEGIN:VTIMEZONE
TZID:America/Halifax
BEGIN:DAYLIGHT
DTSTART:20260308T030000
TZOFFSETFROM:-0400
TZOFFSETTO:-0300
RRULE:FREQ=YEARLY;BYDAY=2SU;BYMONTH=3
TZNAME:ADT
END:DAYLIGHT
BEGIN:STANDARD
DTSTART:20261101T010000
TZOFFSETFROM:-0300
TZOFFSETTO:-0400
RRULE:FREQ=YEARLY;BYDAY=1SU;BYMONTH=11
TZNAME:AST
END:STANDARD
END:VTIMEZONE
BEGIN:VEVENT
DTSTAMP:20260422T183256Z
UID:drawid:175091
DTSTART:20251006T180000
DTEND:20251006T200000
DESCRIPTION:Parties: TBD\, TBD\, TBD\, TBD
LOCATION:619 George St\, Sydney\, B1P 1L1\, NS\, CA
SEQUENCE:1776882776
SUMMARY:2025-26 Colbourne Auto Monday Night Single/Double Entry (Fall)
URL;VALUE=URI:https://sydney.curling.io/fr/events/23694-2025-26-colbourne-a
 uto-monday-night-single-double-entry-fall/draws
END:VEVENT
BEGIN:VEVENT
DTSTAMP:20260422T183256Z
UID:drawid:175092
DTSTART:20251006T200000
DTEND:20251006T220000
DESCRIPTION:Parties: TBD\, TBD\, TBD\, TBD
LOCATION:619 George St\, Sydney\, B1P 1L1\, NS\, CA
SEQUENCE:1776882776
SUMMARY:2025-26 Colbourne Auto Monday Night Single/Double Entry (Fall)
URL;VALUE=URI:https://sydney.curling.io/fr/events/23694-2025-26-colbourne-a
 uto-monday-night-single-double-entry-fall/draws
END:VEVENT
BEGIN:VEVENT
DTSTAMP:20260422T183256Z
UID:drawid:183760
DTSTART:20251013T180000
DTEND:20251013T200000
DESCRIPTION:Parties: TBD\, TBD\, TBD\, TBD
LOCATION:619 George St\, Sydney\, B1P 1L1\, NS\, CA
SEQUENCE:1776882776
SUMMARY:2025-26 Colbourne Auto Monday Night Single/Double Entry (Fall)
URL;VALUE=URI:https://sydney.curling.io/fr/events/23694-2025-26-colbourne-a
 uto-monday-night-single-double-entry-fall/draws
END:VEVENT
BEGIN:VEVENT
DTSTAMP:20260422T183256Z
UID:drawid:183761
DTSTART:20251013T194500
DTEND:20251013T214500
DESCRIPTION:Parties: TBD\, TBD\, TBD\, TBD
LOCATION:619 George St\, Sydney\, B1P 1L1\, NS\, CA
SEQUENCE:1776882776
SUMMARY:2025-26 Colbourne Auto Monday Night Single/Double Entry (Fall)
URL;VALUE=URI:https://sydney.curling.io/fr/events/23694-2025-26-colbourne-a
 uto-monday-night-single-double-entry-fall/draws
END:VEVENT
BEGIN:VEVENT
DTSTAMP:20260422T183256Z
UID:drawid:175093
DTSTART:20251020T180000
DTEND:20251020T200000
DESCRIPTION:Parties: TBD\, TBD\, TBD\, TBD
LOCATION:619 George St\, Sydney\, B1P 1L1\, NS\, CA
SEQUENCE:1776882776
SUMMARY:2025-26 Colbourne Auto Monday Night Single/Double Entry (Fall)
URL;VALUE=URI:https://sydney.curling.io/fr/events/23694-2025-26-colbourne-a
 uto-monday-night-single-double-entry-fall/draws
END:VEVENT
BEGIN:VEVENT
DTSTAMP:20260422T183256Z
UID:drawid:175094
DTSTART:20251020T194500
DTEND:20251020T214500
DESCRIPTION:Parties: TBD\, TBD\, TBD\, TBD
LOCATION:619 George St\, Sydney\, B1P 1L1\, NS\, CA
SEQUENCE:1776882776
SUMMARY:2025-26 Colbourne Auto Monday Night Single/Double Entry (Fall)
URL;VALUE=URI:https://sydney.curling.io/fr/events/23694-2025-26-colbourne-a
 uto-monday-night-single-double-entry-fall/draws
END:VEVENT
BEGIN:VEVENT
DTSTAMP:20260422T183256Z
UID:drawid:175095
DTSTART:20251027T180000
DTEND:20251027T200000
DESCRIPTION:Parties: TBD\, TBD\, TBD\, TBD
LOCATION:619 George St\, Sydney\, B1P 1L1\, NS\, CA
SEQUENCE:1776882776
SUMMARY:2025-26 Colbourne Auto Monday Night Single/Double Entry (Fall)
URL;VALUE=URI:https://sydney.curling.io/fr/events/23694-2025-26-colbourne-a
 uto-monday-night-single-double-entry-fall/draws
END:VEVENT
BEGIN:VEVENT
DTSTAMP:20260422T183256Z
UID:drawid:175096
DTSTART:20251027T194500
DTEND:20251027T214500
DESCRIPTION:Parties: TBD\, TBD\, TBD\, TBD
LOCATION:619 George St\, Sydney\, B1P 1L1\, NS\, CA
SEQUENCE:1776882776
SUMMARY:2025-26 Colbourne Auto Monday Night Single/Double Entry (Fall)
URL;VALUE=URI:https://sydney.curling.io/fr/events/23694-2025-26-colbourne-a
 uto-monday-night-single-double-entry-fall/draws
END:VEVENT
BEGIN:VEVENT
DTSTAMP:20260422T183256Z
UID:drawid:175097
DTSTART:20251103T180000
DTEND:20251103T200000
DESCRIPTION:Parties: TBD\, TBD\, TBD\, TBD
LOCATION:619 George St\, Sydney\, B1P 1L1\, NS\, CA
SEQUENCE:1776882776
SUMMARY:2025-26 Colbourne Auto Monday Night Single/Double Entry (Fall)
URL;VALUE=URI:https://sydney.curling.io/fr/events/23694-2025-26-colbourne-a
 uto-monday-night-single-double-entry-fall/draws
END:VEVENT
BEGIN:VEVENT
DTSTAMP:20260422T183256Z
UID:drawid:175098
DTSTART:20251103T194500
DTEND:20251103T214500
DESCRIPTION:Parties: TBD\, TBD\, TBD\, TBD
LOCATION:619 George St\, Sydney\, B1P 1L1\, NS\, CA
SEQUENCE:1776882776
SUMMARY:2025-26 Colbourne Auto Monday Night Single/Double Entry (Fall)
URL;VALUE=URI:https://sydney.curling.io/fr/events/23694-2025-26-colbourne-a
 uto-monday-night-single-double-entry-fall/draws
END:VEVENT
BEGIN:VEVENT
DTSTAMP:20260422T183256Z
UID:drawid:175099
DTSTART:20251110T180000
DTEND:20251110T200000
DESCRIPTION:Parties: TBD\, TBD\, TBD\, TBD
LOCATION:619 George St\, Sydney\, B1P 1L1\, NS\, CA
SEQUENCE:1776882776
SUMMARY:2025-26 Colbourne Auto Monday Night Single/Double Entry (Fall)
URL;VALUE=URI:https://sydney.curling.io/fr/events/23694-2025-26-colbourne-a
 uto-monday-night-single-double-entry-fall/draws
END:VEVENT
BEGIN:VEVENT
DTSTAMP:20260422T183256Z
UID:drawid:175100
DTSTART:20251110T194500
DTEND:20251110T214500
DESCRIPTION:Parties: TBD\, TBD\, TBD\, TBD
LOCATION:619 George St\, Sydney\, B1P 1L1\, NS\, CA
SEQUENCE:1776882776
SUMMARY:2025-26 Colbourne Auto Monday Night Single/Double Entry (Fall)
URL;VALUE=URI:https://sydney.curling.io/fr/events/23694-2025-26-colbourne-a
 uto-monday-night-single-double-entry-fall/draws
END:VEVENT
BEGIN:VEVENT
DTSTAMP:20260422T183256Z
UID:drawid:175101
DTSTART:20251117T180000
DTEND:20251117T200000
DESCRIPTION:Parties: TBD\, TBD\, TBD\, TBD
LOCATION:619 George St\, Sydney\, B1P 1L1\, NS\, CA
SEQUENCE:1776882776
SUMMARY:2025-26 Colbourne Auto Monday Night Single/Double Entry (Fall)
URL;VALUE=URI:https://sydney.curling.io/fr/events/23694-2025-26-colbourne-a
 uto-monday-night-single-double-entry-fall/draws
END:VEVENT
BEGIN:VEVENT
DTSTAMP:20260422T183256Z
UID:drawid:175102
DTSTART:20251117T194500
DTEND:20251117T214500
DESCRIPTION:Parties: TBD\, TBD\, TBD\, TBD
LOCATION:619 George St\, Sydney\, B1P 1L1\, NS\, CA
SEQUENCE:1776882776
SUMMARY:2025-26 Colbourne Auto Monday Night Single/Double Entry (Fall)
URL;VALUE=URI:https://sydney.curling.io/fr/events/23694-2025-26-colbourne-a
 uto-monday-night-single-double-entry-fall/draws
END:VEVENT
BEGIN:VEVENT
DTSTAMP:20260422T183256Z
UID:drawid:175103
DTSTART:20251124T180000
DTEND:20251124T200000
DESCRIPTION:Parties: TBD\, TBD\, TBD\, TBD
LOCATION:619 George St\, Sydney\, B1P 1L1\, NS\, CA
SEQUENCE:1776882776
SUMMARY:2025-26 Colbourne Auto Monday Night Single/Double Entry (Fall)
URL;VALUE=URI:https://sydney.curling.io/fr/events/23694-2025-26-colbourne-a
 uto-monday-night-single-double-entry-fall/draws
END:VEVENT
BEGIN:VEVENT
DTSTAMP:20260422T183256Z
UID:drawid:175104
DTSTART:20251124T194500
DTEND:20251124T214500
DESCRIPTION:Parties: TBD\, TBD\, TBD\, TBD
LOCATION:619 George St\, Sydney\, B1P 1L1\, NS\, CA
SEQUENCE:1776882776
SUMMARY:2025-26 Colbourne Auto Monday Night Single/Double Entry (Fall)
URL;VALUE=URI:https://sydney.curling.io/fr/events/23694-2025-26-colbourne-a
 uto-monday-night-single-double-entry-fall/draws
END:VEVENT
BEGIN:VEVENT
DTSTAMP:20260422T183256Z
UID:drawid:175105
DTSTART:20251201T180000
DTEND:20251201T200000
DESCRIPTION:Parties: TBD\, TBD\, TBD\, TBD
LOCATION:619 George St\, Sydney\, B1P 1L1\, NS\, CA
SEQUENCE:1776882776
SUMMARY:2025-26 Colbourne Auto Monday Night Single/Double Entry (Fall)
URL;VALUE=URI:https://sydney.curling.io/fr/events/23694-2025-26-colbourne-a
 uto-monday-night-single-double-entry-fall/draws
END:VEVENT
BEGIN:VEVENT
DTSTAMP:20260422T183256Z
UID:drawid:175106
DTSTART:20251201T194500
DTEND:20251201T214500
DESCRIPTION:Parties: TBD\, TBD\, TBD\, TBD
LOCATION:619 George St\, Sydney\, B1P 1L1\, NS\, CA
SEQUENCE:1776882776
SUMMARY:2025-26 Colbourne Auto Monday Night Single/Double Entry (Fall)
URL;VALUE=URI:https://sydney.curling.io/fr/events/23694-2025-26-colbourne-a
 uto-monday-night-single-double-entry-fall/draws
END:VEVENT
BEGIN:VEVENT
DTSTAMP:20260422T183256Z
UID:drawid:175107
DTSTART:20251215T180000
DTEND:20251215T200000
DESCRIPTION:Parties: TBD\, TBD\, TBD\, TBD
LOCATION:619 George St\, Sydney\, B1P 1L1\, NS\, CA
SEQUENCE:1776882776
SUMMARY:2025-26 Colbourne Auto Monday Night Single/Double Entry (Fall)
URL;VALUE=URI:https://sydney.curling.io/fr/events/23694-2025-26-colbourne-a
 uto-monday-night-single-double-entry-fall/draws
END:VEVENT
BEGIN:VEVENT
DTSTAMP:20260422T183256Z
UID:drawid:175108
DTSTART:20251215T194500
DTEND:20251215T214500
DESCRIPTION:Parties: TBD\, TBD\, TBD\, TBD
LOCATION:619 George St\, Sydney\, B1P 1L1\, NS\, CA
SEQUENCE:1776882776
SUMMARY:2025-26 Colbourne Auto Monday Night Single/Double Entry (Fall)
URL;VALUE=URI:https://sydney.curling.io/fr/events/23694-2025-26-colbourne-a
 uto-monday-night-single-double-entry-fall/draws
END:VEVENT
END:VCALENDAR
